BEGIN:VCALENDAR
VERSION:2.0
PRODID:-//Our Lady Star of the Sea Catholic Church - ECPv6.15.0.1//NONSGML v1.0//EN
CALSCALE:GREGORIAN
METHOD:PUBLISH
X-WR-CALNAME:Our Lady Star of the Sea Catholic Church
X-ORIGINAL-URL:https://www.starofthesea.net
X-WR-CALDESC:Events for Our Lady Star of the Sea Catholic Church
REFRESH-INTERVAL;VALUE=DURATION:PT1H
X-Robots-Tag:noindex
X-PUBLISHED-TTL:PT1H
BEGIN:VTIMEZONE
TZID:America/Los_Angeles
BEGIN:DAYLIGHT
TZOFFSETFROM:-0800
TZOFFSETTO:-0700
TZNAME:PDT
DTSTART:20200308T100000
END:DAYLIGHT
BEGIN:STANDARD
TZOFFSETFROM:-0700
TZOFFSETTO:-0800
TZNAME:PST
DTSTART:20201101T090000
END:STANDARD
BEGIN:DAYLIGHT
TZOFFSETFROM:-0800
TZOFFSETTO:-0700
TZNAME:PDT
DTSTART:20210314T100000
END:DAYLIGHT
BEGIN:STANDARD
TZOFFSETFROM:-0700
TZOFFSETTO:-0800
TZNAME:PST
DTSTART:20211107T090000
END:STANDARD
BEGIN:DAYLIGHT
TZOFFSETFROM:-0800
TZOFFSETTO:-0700
TZNAME:PDT
DTSTART:20220313T100000
END:DAYLIGHT
BEGIN:STANDARD
TZOFFSETFROM:-0700
TZOFFSETTO:-0800
TZNAME:PST
DTSTART:20221106T090000
END:STANDARD
BEGIN:DAYLIGHT
TZOFFSETFROM:-0800
TZOFFSETTO:-0700
TZNAME:PDT
DTSTART:20230312T100000
END:DAYLIGHT
BEGIN:STANDARD
TZOFFSETFROM:-0700
TZOFFSETTO:-0800
TZNAME:PST
DTSTART:20231105T090000
END:STANDARD
BEGIN:DAYLIGHT
TZOFFSETFROM:-0800
TZOFFSETTO:-0700
TZNAME:PDT
DTSTART:20240310T100000
END:DAYLIGHT
BEGIN:STANDARD
TZOFFSETFROM:-0700
TZOFFSETTO:-0800
TZNAME:PST
DTSTART:20241103T090000
END:STANDARD
END:VTIMEZONE
BEGIN:VEVENT
DTSTART;TZID=America/Los_Angeles:20240927T180000
DTEND;TZID=America/Los_Angeles:20240927T210000
DTSTAMP:20260422T215341
CREATED:20230911T224035Z
LAST-MODIFIED:20240830T233654Z
UID:16281-1727460000-1727470800@www.starofthesea.net
SUMMARY:NERF Night!
DESCRIPTION:Friday\, September 27  | 6:00 – 9:00pm | Our Lady Star of the Sea Gym\nDoors open at 5:30pm \nTickets\n$10 Per person$50 for familiesAdmission includes Nerf War fun and a meal (Pizza\, Water\, Ice Cream)Bring your own nerf gun\, we’ll supply the bullets. \n– TRAILMEN PLAY FOR FREE – \n			\n				Purchase Tickets Online\n			\n				\n				\n				\n				\n				 \n**RAFFLE**\n$1 per ticket \nPurchase For a Chance to Win aNew Nerf gun! \n			\n				\n				\n				\n				\n				Questions? Have Questions? Want to join Trail Life?Contact Mike Cichy: arcadeboy@hotmail.com
URL:https://www.starofthesea.net/event/nerf-night/
LOCATION:School Gym\, 511 Veneta Ave\, Bremerton\, WA
CATEGORIES:All Church,Youth Ministries
ATTACH;FMTTYPE=image/jpeg:https://www.starofthesea.net/wp-content/uploads/2023/09/NERF-Night-Header.jpg
END:VEVENT
BEGIN:VEVENT
DTSTART;TZID=America/Los_Angeles:20240814T180000
DTEND;TZID=America/Los_Angeles:20240814T193000
DTSTAMP:20260422T215341
CREATED:20240718T163517Z
LAST-MODIFIED:20240718T163710Z
UID:17301-1723658400-1723663800@www.starofthesea.net
SUMMARY:Parish Family Hour-Summer Schedule
DESCRIPTION:Summer Schedule\n6:00pm  Potluck in Camerman Hall\n6:30pm  Reading and Discussion on “The Catholic Parent” series\n7:30pm  Gather in the Church for Night Prayer\n  \n\n\n\n\n\n\nFor the Children\nAll children and youth will have an opportunity to enjoy summer with their fellow parish friends and partake in fun activities either in the JP2 Youth Center\, Gym\, or park (weather permitting). These activities will foster faith\, community\, and relationships in our children and youth. \n  \n\n\n\n\nFor the Adults\nAdults are invited to gather in Camerman Hall (church basement) for formation and discussion on “The Catholic Parent” video series. Created through a collaboration between the Augustine Institute and Catholic Sprouts\, each episode in this stunning video series features real Catholic parents sharing their struggles and victories. Large and small families\, families with young children and older children\, and single-parent families; The Catholic Parent series strives to create a resource to support every Catholic family in their unique faith journey. \nBe Empowered to:  \n• Faithfully take your family to Sunday Mass\, even in difficult seasons. \n• Commit to praying as a family\, even when life is hectic. \n• Live sacrificially for each other out of love\, even when it’s uncomfortable. \n• Give generously to those in need\, even when it requires a lot of trust.
URL:https://www.starofthesea.net/event/parish-family-hour-summer-schedule-4/
LOCATION:Camerman Hall
CATEGORIES:Adult Ministries,All Church,Youth Ministries
ATTACH;FMTTYPE=image/jpeg:https://www.starofthesea.net/wp-content/uploads/2022/06/Parish-Family-Hour-Slider2.jpg
END:VEVENT
BEGIN:VEVENT
DTSTART;TZID=America/Los_Angeles:20240807T180000
DTEND;TZID=America/Los_Angeles:20240807T193000
DTSTAMP:20260422T215341
CREATED:20240718T163439Z
LAST-MODIFIED:20240718T163606Z
UID:17299-1723053600-1723059000@www.starofthesea.net
SUMMARY:Parish Family Hour-Summer Schedule
DESCRIPTION:Summer Schedule\n6:00pm  Potluck in Camerman Hall\n6:30pm  Reading and Discussion on “The Catholic Parent” series\n7:30pm  Gather in the Church for Night Prayer\n  \n\n\n\n\n\n\nFor the Children\nAll children and youth will have an opportunity to enjoy summer with their fellow parish friends and partake in fun activities either in the JP2 Youth Center\, Gym\, or park (weather permitting). These activities will foster faith\, community\, and relationships in our children and youth. \n  \n\n\n\n\nFor the Adults\nAdults are invited to gather in Camerman Hall (church basement) for formation and discussion on “The Catholic Parent” video series. Created through a collaboration between the Augustine Institute and Catholic Sprouts\, each episode in this stunning video series features real Catholic parents sharing their struggles and victories. Large and small families\, families with young children and older children\, and single-parent families; The Catholic Parent series strives to create a resource to support every Catholic family in their unique faith journey. \nBe Empowered to:  \n• Faithfully take your family to Sunday Mass\, even in difficult seasons. \n• Commit to praying as a family\, even when life is hectic. \n• Live sacrificially for each other out of love\, even when it’s uncomfortable. \n• Give generously to those in need\, even when it requires a lot of trust.
URL:https://www.starofthesea.net/event/parish-family-hour-summer-schedule-3/
LOCATION:Camerman Hall
CATEGORIES:Adult Ministries,All Church,Youth Ministries
ATTACH;FMTTYPE=image/jpeg:https://www.starofthesea.net/wp-content/uploads/2022/06/Parish-Family-Hour-Slider2.jpg
END:VEVENT
BEGIN:VEVENT
DTSTART;TZID=America/Los_Angeles:20240725T190000
DTEND;TZID=America/Los_Angeles:20240725T200000
DTSTAMP:20260422T215341
CREATED:20231002T162618Z
LAST-MODIFIED:20240701T213847Z
UID:16360-1721934000-1721937600@www.starofthesea.net
SUMMARY:Parish Holy Hour
DESCRIPTION:| Come Pray with us at our Weekly Parish Holy Hour  | Each Thursday we will join in prayer for a specific intention.A time of prayer\, music\, and reflection before the Blessed Sacrament with the parish community. All are welcome! \n\nEach Week is Focused on a Specific Intention:\n\nFirst Thursday – Vianney Cenacle (Priests & Religious)\nSecond Thursday – For Families\nThird Thursday – For Our Youth\nFourth Thursday – For Healing\n\n\n  \nLearn more about Holy Hours and the Importance of Eucharistic Adoration: \n			\n				What Is a Holy Hour?\n			\n				How to Make a Holy Hour
URL:https://www.starofthesea.net/event/parish-holy-hour-7/
LOCATION:Our Lady Star of the Sea Church\, 500 Veneta Ave.\, Bremerton\, WA\, 98337\, United States
CATEGORIES:All Church,Young Adults,Youth Ministries
ATTACH;FMTTYPE=image/jpeg:https://www.starofthesea.net/wp-content/uploads/2023/05/Parish-Holy-Hour.jpg
END:VEVENT
BEGIN:VEVENT
DTSTART;TZID=America/Los_Angeles:20240718T190000
DTEND;TZID=America/Los_Angeles:20240718T200000
DTSTAMP:20260422T215341
CREATED:20231002T162340Z
LAST-MODIFIED:20240701T213325Z
UID:16352-1721329200-1721332800@www.starofthesea.net
SUMMARY:Parish Holy Hour
DESCRIPTION:| Come Pray with us at our Weekly Parish Holy Hour  | Each Thursday we will join in prayer for a specific intention.The Parish Holy Hour is a time of prayer\, music\, and reflection in the presence of Jesus in the Blessed Sacrament with the parish community. All are welcome! \n\nEach Week is Focused on a Specific Intention:\n\nFirst Thursday – Vianney Cenacle (Priests & Religious)\nSecond Thursday – For Families\nThird Thursday – For Our Youth\nFourth Thursday – For Healing\n\n\n  \nLearn More About Holy Hours & the Importance of Eucharistic Adoration Here: \n			\n				What is a Holy Hour?\n			\n				How to Make a Holy Hour
URL:https://www.starofthesea.net/event/parish-holy-hour-6/
LOCATION:Our Lady Star of the Sea Church\, 500 Veneta Ave.\, Bremerton\, WA\, 98337\, United States
CATEGORIES:All Church,Young Adults,Youth Ministries
ATTACH;FMTTYPE=image/jpeg:https://www.starofthesea.net/wp-content/uploads/2023/05/Parish-Holy-Hour.jpg
END:VEVENT
BEGIN:VEVENT
DTSTART;TZID=America/Los_Angeles:20240509T190000
DTEND;TZID=America/Los_Angeles:20240509T200000
DTSTAMP:20260422T215341
CREATED:20230503T184223Z
LAST-MODIFIED:20240415T212949Z
UID:15702-1715281200-1715284800@www.starofthesea.net
SUMMARY:Parish Holy Hour
DESCRIPTION:| Come Pray with us at our Weekly Parish Holy Hour  | Each Thursday we will join in prayer for a specific intention.The Parish Holy Hour is a time of prayer\, music\, and reflection in the presence of Jesus in the Blessed Sacrament with the parish community. All are welcome! \n\nEach Week is Focused on a Specific Intention:\n\nFirst Thursday – Vianney Cenacle (Priests & Religious)\nSecond Thursday – For Families\nThird Thursday – For Our Youth\nFourth Thursday – For Healing\nFifth Thursday – For Mercy\n\n\n  \nLearn More About Holy Hours & the Importance of Eucharistic Adoration Here: \n			\n				What is a Holy Hour?\n			\n				How to Make a Holy Hour
URL:https://www.starofthesea.net/event/parish-holy-hour-5/
LOCATION:Our Lady Star of the Sea Church\, 500 Veneta Ave.\, Bremerton\, WA\, 98337\, United States
CATEGORIES:All Church,Young Adults,Youth Ministries
ATTACH;FMTTYPE=image/jpeg:https://www.starofthesea.net/wp-content/uploads/2023/05/Parish-Holy-Hour.jpg
END:VEVENT
BEGIN:VEVENT
DTSTART;TZID=America/Los_Angeles:20240407T153000
DTEND;TZID=America/Los_Angeles:20240407T173000
DTSTAMP:20260422T215341
CREATED:20190410T213125Z
LAST-MODIFIED:20240327T210950Z
UID:8818-1712503800-1712511000@www.starofthesea.net
SUMMARY:JP2 Youth Center Anniversary
DESCRIPTION:3:30pm – 5:30pm\nat the JP2 Youth Center \nJoin us for fellowship\, food\, and games!\nFor Questions\, please contact Olga. \n\n\nWe’re celebrating the anniversary of the opening of the John Paul II Youth Center.\nEveryone is welcome! \nAll young adults are welcome to join us for a bonfire afterward at 6:30pm in the backyard of the Missionary House.
URL:https://www.starofthesea.net/event/jp2-youth-center-anniversary/
LOCATION:WA
CATEGORIES:All Church,Youth Ministries
ATTACH;FMTTYPE=image/png:https://www.starofthesea.net/wp-content/uploads/2017/03/Youth-Sign2.png
END:VEVENT
BEGIN:VEVENT
DTSTART;TZID=America/Los_Angeles:20240110T180000
DTEND;TZID=America/Los_Angeles:20240110T200000
DTSTAMP:20260422T215341
CREATED:20231211T212935Z
LAST-MODIFIED:20240103T222941Z
UID:16531-1704909600-1704916800@www.starofthesea.net
SUMMARY:Parish Family Hour Returns
DESCRIPTION:Wednesday evening activities are back! We hope you all had a lovely Christmas break and are excited to hear all about it.  \n			\n				\n				\n				\n				\n				– Youth & Children’s Programs –\n			\n			\n				\n				\n				\n				\n			\n				\n				\n				\n				\n				\n				\n				\n				\n				\n				\n				\nFIDELIS – Young Ladies Gr. 6-12 and Women mentors: JP2 Youth Center – 6:00PM\n  \n\nFRATERNUS – Young Men Gr. 6-12 and Gentlemen mentors: Gym – 6:00PM\nFAITHWORKS – Children Gr. PreK-5: Parish Center & School Cafeteria\n\nAll join together for Compline in the church at 7:30pm. \n			\n			\n				\n				\n				\n				\n				\n				\n				\n				\n				\n				 \n \nLearn more about our youth programs:\n  \n				Visit Youth Website\n			\n			\n				\n				\n				\n				\n			\n				\n				\n			\n				\n				\n				\n				\n				\n				\n				\n				\n				\n				\n				\n				\n				\n				\n				\n				\n				\n				– For the Adults –\n			\n				\n				\n				\n				\n				\nWhile the youth & children programs are taking place\, all of the parents\, young adults\, and families are invited to attend the adult faith formation in Camerman Hall at 6PM.  \n\nAll programs will conclude with Night Prayer (Compline) in the church at 7:30PM.
URL:https://www.starofthesea.net/event/parish-family-hour/
LOCATION:Our Lady Star of the Sea Church\, 500 Veneta Ave.\, Bremerton\, WA\, 98337\, United States
CATEGORIES:All Church,Holiday,Youth Ministries
END:VEVENT
BEGIN:VEVENT
DTSTART;TZID=America/Los_Angeles:20230216T190000
DTEND;TZID=America/Los_Angeles:20230216T200000
DTSTAMP:20260422T215341
CREATED:20230103T211617Z
LAST-MODIFIED:20230204T220426Z
UID:15330-1676574000-1676577600@www.starofthesea.net
SUMMARY:Parish Holy Hour
DESCRIPTION:Come Pray with us at our Monthly Parish Holy Hour\nEach month we will join in prayer for a specific intention.\nA time of prayer\, music\, and reflection before the Blessed Sacrament with the parish community. Hosted by youth and young adults. All are welcome! \n\nThis Month:\nFor the lost who have not received the light of revelation or been brought back by the Good Shepherd \nRefreshments to follow in Camerman Hall. \n\n  \nYouth and Young Adult Volunteers Needed! \nWe are looking for altar servers\, greeters\, and people to help with music ministry. Email Axel to volunteer or for more details: axel@starofthesea.net
URL:https://www.starofthesea.net/event/parish-holy-hour-4/
LOCATION:WA
CATEGORIES:All Church,Young Adults,Youth Ministries
ATTACH;FMTTYPE=image/jpeg:https://www.starofthesea.net/wp-content/uploads/2022/10/Parish-Holy-Hour.jpg
END:VEVENT
BEGIN:VEVENT
DTSTART;TZID=America/Los_Angeles:20221215T190000
DTEND;TZID=America/Los_Angeles:20221215T203000
DTSTAMP:20260422T215341
CREATED:20221121T195800Z
LAST-MODIFIED:20221121T195800Z
UID:15205-1671130800-1671136200@www.starofthesea.net
SUMMARY:Parish Holy Hour
DESCRIPTION:Come Pray with us at our Monthly Parish Holy Hour\nEach month we will join in prayer for a specific intention.\nA time of prayer\, music\, and reflection before the Blessed Sacrament with the parish community. Hosted by youth and young adults. All are welcome! \n\nMonthly Intention: \n The Immaculate Conception \nRefreshments to follow in Camerman Hall. \n\n  \nYouth and Young Adult Volunteers Needed! \nWe are looking for altar servers\, greeters\, and people to help with music ministry. Email Axel to volunteer or for more details: axel@starofthesea.net
URL:https://www.starofthesea.net/event/parish-holy-hour-3/
LOCATION:Our Lady Star of the Sea Church\, 500 Veneta Ave.\, Bremerton\, WA\, 98337\, United States
CATEGORIES:All Church,Young Adults,Youth Ministries
ATTACH;FMTTYPE=image/jpeg:https://www.starofthesea.net/wp-content/uploads/2022/10/Parish-Holy-Hour.jpg
ORGANIZER;CN="Axel":MAILTO:axel@starofthesea.net
END:VEVENT
BEGIN:VEVENT
DTSTART;TZID=America/Los_Angeles:20221117T190000
DTEND;TZID=America/Los_Angeles:20221117T203000
DTSTAMP:20260422T215341
CREATED:20221021T192921Z
LAST-MODIFIED:20221021T192921Z
UID:15113-1668711600-1668717000@www.starofthesea.net
SUMMARY:Parish Holy Hour
DESCRIPTION:Come Pray with us at our Monthly Parish Holy Hour\nEach month we will join in prayer for a specific intention.\nA time of prayer\, music\, and reflection before the Blessed Sacrament with the parish community. Hosted by youth and young adults. All are welcome! \n\nThis Month: \n Praying Together for the Holy Souls in Purgatory \nRefreshments to follow in Camerman Hall. \n\n  \nYouth and Young Adult Volunteers Needed! \nWe are looking for altar servers\, greeters\, and people to help with music ministry. Email Axel to volunteer or for more details: axel@starofthesea.net
URL:https://www.starofthesea.net/event/parish-holy-hour-2/
LOCATION:Our Lady Star of the Sea Church\, 500 Veneta Ave.\, Bremerton\, WA\, 98337\, United States
CATEGORIES:All Church,Young Adults,Youth Ministries
ATTACH;FMTTYPE=image/jpeg:https://www.starofthesea.net/wp-content/uploads/2022/10/Parish-Holy-Hour.jpg
ORGANIZER;CN="Axel":MAILTO:axel@starofthesea.net
END:VEVENT
BEGIN:VEVENT
DTSTART;TZID=America/Los_Angeles:20221020T190000
DTEND;TZID=America/Los_Angeles:20221020T203000
DTSTAMP:20260422T215341
CREATED:20221014T174148Z
LAST-MODIFIED:20221014T174449Z
UID:15094-1666292400-1666297800@www.starofthesea.net
SUMMARY:Parish Holy Hour
DESCRIPTION:Introducing our Monthly Parish Holy HourEach month we will join in prayer for a specific intention.A time of prayer\, music\, and reflection before the Blessed Sacrament with the parish community. Hosted by youth and young adults. All are welcome! \n\nThis Month:  Praying Together for an End to Abortion \nRefreshments to follow in Camerman Hall\, provided by Bremerton 40 Days for Life. \n\n  \nYouth and Young Adult Volunteers Needed! \nWe are looking for altar servers\, greeters\, and people to help with music ministry. Email Axel to volunteer or for more details: axel@starofthesea.net
URL:https://www.starofthesea.net/event/parish-holy-hour/
LOCATION:Our Lady Star of the Sea Church\, 500 Veneta Ave.\, Bremerton\, WA\, 98337\, United States
CATEGORIES:All Church,Young Adults,Youth Ministries
ATTACH;FMTTYPE=image/jpeg:https://www.starofthesea.net/wp-content/uploads/2022/10/Parish-Holy-Hour.jpg
ORGANIZER;CN="Axel":MAILTO:axel@starofthesea.net
END:VEVENT
BEGIN:VEVENT
DTSTART;VALUE=DATE:20220820
DTEND;VALUE=DATE:20220821
DTSTAMP:20260422T215341
CREATED:20220615T223216Z
LAST-MODIFIED:20220812T210035Z
UID:14765-1660953600-1661039999@www.starofthesea.net
SUMMARY:Fidelis Beach Day!
DESCRIPTION:August 20\, 2022  ||  Location TBD \nOlympic Lutherhaven Park Area at Wildcat Lake\nFor ALL ladies grades 6-12 – Including those new to Fidelis! \nWe will carpool after the 9am Mass and return to OLSOS at 3:30pm. Please bring a lunch\, water\, swimsuit\, towel\, and sunscreen. \nQuestions? Email Gabby@starofthesea.net \n  \n​Open to all ladies in grades 6-12\,\nfemale mentors\, moms\, older sisters\, etc.\nfor a fun day at the beach!
URL:https://www.starofthesea.net/event/fidelis-beach-day/
LOCATION:WA
CATEGORIES:Youth Ministries
ATTACH;FMTTYPE=image/png:https://www.starofthesea.net/wp-content/uploads/2022/06/Fidelis-Beach-Day-.png
END:VEVENT
BEGIN:VEVENT
DTSTART;TZID=America/Los_Angeles:20210513T190000
DTEND;TZID=America/Los_Angeles:20210513T200000
DTSTAMP:20260422T215341
CREATED:20190410T211315Z
LAST-MODIFIED:20190410T211315Z
UID:8816-1620932400-1620936000@www.starofthesea.net
SUMMARY:Youth & Young Adult Holy Hour
DESCRIPTION:Come\, Pray for our youth! \nYouth\, Young Adults\, & All who Intercede on their behalf\nGuided Scripture meditations and Prayers for the Youth before Jesus in the Blessed Sacrament. \n\n6:00-7:00pm –  All Youth & young adults are invited for open gym prior to the holy hour.\n 
URL:https://www.starofthesea.net/event/youth-young-adult-holy-hour-3/
LOCATION:WA
CATEGORIES:Young Adults,Youth Ministries
END:VEVENT
BEGIN:VEVENT
DTSTART;TZID=America/Los_Angeles:20210311T190000
DTEND;TZID=America/Los_Angeles:20210311T200000
DTSTAMP:20260422T215341
CREATED:20200108T000426Z
LAST-MODIFIED:20200108T000426Z
UID:9690-1615489200-1615492800@www.starofthesea.net
SUMMARY:Youth & Young Adult Holy Hour
DESCRIPTION:Come\, Pray for our youth! \nYouth\, Young Adults\, & All who Intercede on their behalf\nGuided Scripture meditations and Prayers for the Youth before Jesus in the Blessed Sacrament. \n\nVocations Night: \nPrior to the holy hour\, there will be a talk on vocations for the youth and young adults of the parish. \n\n5:00-6:00pm Come meet/chat with our special guests Fr. Justin Ryan (Vocation’s Director of Seattle Dio)\, SOLT Sisters\, and Br. Nathaniel Mayne O.P. (From UW Newman Center) in Camerman Hall .\n6:00-7:00pm Men & women will split off into separate groups for vocation testimonies.\n7:00-8:00pm Eucharistic Adoration in the church.\n\nEmail Kennedy for more details: kennedy@starofthesea.net
URL:https://www.starofthesea.net/event/youth-holy-hour-2/
LOCATION:WA
CATEGORIES:Young Adults,Youth Ministries
END:VEVENT
BEGIN:VEVENT
DTSTART;TZID=America/Los_Angeles:20201121T100000
DTEND;TZID=America/Los_Angeles:20201121T130000
DTSTAMP:20260422T215341
CREATED:20201102T234204Z
LAST-MODIFIED:20201102T234204Z
UID:11369-1605952800-1605963600@www.starofthesea.net
SUMMARY:Race to the Trails - Pinewood Car Race
DESCRIPTION:Trail Life Troop WA-0314 invites all young men of the parish from grades K-12 to our Race to the Trails event!\nSaturday\, November 21\, from 10:00 AM – 1:00 PM in the school gym.\nCars will be available in Camerman Hall after all Masses October 31 & November 1.\n \nLearn more about our Troop and how to join in the fun!\nFor more info\, please contact Erik Garvey: megarvey@hotmail.com
URL:https://www.starofthesea.net/event/race-to-the-trails-pinewood-car-race/
LOCATION:WA
CATEGORIES:Youth Ministries
END:VEVENT
END:VCALENDAR