BEGIN:VCALENDAR
VERSION:2.0
PRODID:-//Our Lady Star of the Sea Catholic Church - ECPv6.15.0.1//NONSGML v1.0//EN
CALSCALE:GREGORIAN
METHOD:PUBLISH
X-WR-CALNAME:Our Lady Star of the Sea Catholic Church
X-ORIGINAL-URL:https://www.starofthesea.net
X-WR-CALDESC:Events for Our Lady Star of the Sea Catholic Church
REFRESH-INTERVAL;VALUE=DURATION:PT1H
X-Robots-Tag:noindex
X-PUBLISHED-TTL:PT1H
BEGIN:VTIMEZONE
TZID:America/Los_Angeles
BEGIN:DAYLIGHT
TZOFFSETFROM:-0800
TZOFFSETTO:-0700
TZNAME:PDT
DTSTART:20250309T100000
END:DAYLIGHT
BEGIN:STANDARD
TZOFFSETFROM:-0700
TZOFFSETTO:-0800
TZNAME:PST
DTSTART:20251102T090000
END:STANDARD
END:VTIMEZONE
BEGIN:VEVENT
DTSTART;TZID=America/Los_Angeles:20251024T153000
DTEND;TZID=America/Los_Angeles:20251026T170000
DTSTAMP:20260419T234245
CREATED:20251017T165948Z
LAST-MODIFIED:20251017T165951Z
UID:18859-1761319800-1761498000@www.starofthesea.net
SUMMARY:Fraternus Fall Excursion 2025
DESCRIPTION:October 24-26\, 2025\nRamblewood Retreat Center\, Sequim​Cost: $80/Brother \nFor ALL Young Men grades 6-12 /male mentors/dads/older brothers\nJoin the Fraternus Brothers for a weekend of Camping\, Fellowship\, and more.\nMeet at the JP2 Youth Center at 3:30pm.  Depart JP2 no later than 4pm\n			\n			\n				\n				\n				\n				\n			\n				\n				\n				\n				\n				\n				\n				Youth Excursion Form\n			\n			\n				\n				\n				\n				\n				\n				Adult Excursion Form
URL:https://www.starofthesea.net/event/fraternus-fall-excursion-2025/
LOCATION:Ramblewood Retreat Center\, 269035 US-101\, Sequim\, WA\, 98382\, United States
CATEGORIES:Retreat,Youth Ministries
ATTACH;FMTTYPE=image/png:https://www.starofthesea.net/wp-content/uploads/2021/08/Fraternus-Excursion-e1628302631779.png
END:VEVENT
END:VCALENDAR