BEGIN:VCALENDAR
VERSION:2.0
PRODID:-//Our Lady Star of the Sea Catholic Church - ECPv6.15.0.1//NONSGML v1.0//EN
CALSCALE:GREGORIAN
METHOD:PUBLISH
X-ORIGINAL-URL:https://www.starofthesea.net
X-WR-CALDESC:Events for Our Lady Star of the Sea Catholic Church
REFRESH-INTERVAL;VALUE=DURATION:PT1H
X-Robots-Tag:noindex
X-PUBLISHED-TTL:PT1H
BEGIN:VTIMEZONE
TZID:America/Los_Angeles
BEGIN:DAYLIGHT
TZOFFSETFROM:-0800
TZOFFSETTO:-0700
TZNAME:PDT
DTSTART:20250309T100000
END:DAYLIGHT
BEGIN:STANDARD
TZOFFSETFROM:-0700
TZOFFSETTO:-0800
TZNAME:PST
DTSTART:20251102T090000
END:STANDARD
END:VTIMEZONE
BEGIN:VEVENT
DTSTART;TZID=America/Los_Angeles:20250710T073000
DTEND;TZID=America/Los_Angeles:20250711T120000
DTSTAMP:20260419T162845
CREATED:20170605T230508Z
LAST-MODIFIED:20250528T203203Z
UID:3717-1752132600-1752235200@www.starofthesea.net
SUMMARY:Altar Server Rookie Days
DESCRIPTION:Shape up and train to be an Altar Server!\nThursday and Friday\, July 10-11\, 2025begins with morning Mass until Noon \n			\n				\n				\n				\n				\n				Rookie Days is our two-day program offered for all eligible boys who have never been thru training at Star of the Sea. \nWho is eligible?Boys who have completed the 3rd Grade thru High School. \nIt is encouraged and expected for boys of the parish to be altar servers for at least a year. This is a great opportunity for the boys to give back to the parish and make new friends along the way! \n—– \nPlease email Meg Collier with any questions or concerns.
URL:https://www.starofthesea.net/event/altar-boy-rookie-camp/
LOCATION:Our Lady Star of the Sea Church\, 500 Veneta Ave.\, Bremerton\, WA\, 98337\, United States
CATEGORIES:Classes,Youth Ministries
ATTACH;FMTTYPE=image/png:https://www.starofthesea.net/wp-content/uploads/2017/06/AltarServerRookieDaysHeader.png
ORGANIZER;CN="Meg":MAILTO:meg@starofthesea.net
END:VEVENT
END:VCALENDAR