BEGIN:VCALENDAR
VERSION:2.0
PRODID:-//Our Lady Star of the Sea Catholic Church - ECPv6.15.0.1//NONSGML v1.0//EN
CALSCALE:GREGORIAN
METHOD:PUBLISH
X-ORIGINAL-URL:https://www.starofthesea.net
X-WR-CALDESC:Events for Our Lady Star of the Sea Catholic Church
REFRESH-INTERVAL;VALUE=DURATION:PT1H
X-Robots-Tag:noindex
X-PUBLISHED-TTL:PT1H
BEGIN:VTIMEZONE
TZID:America/Los_Angeles
BEGIN:DAYLIGHT
TZOFFSETFROM:-0800
TZOFFSETTO:-0700
TZNAME:PDT
DTSTART:20250309T100000
END:DAYLIGHT
BEGIN:STANDARD
TZOFFSETFROM:-0700
TZOFFSETTO:-0800
TZNAME:PST
DTSTART:20251102T090000
END:STANDARD
END:VTIMEZONE
BEGIN:VEVENT
DTSTART;TZID=America/Los_Angeles:20250623T080000
DTEND;TZID=America/Los_Angeles:20250627T120000
DTSTAMP:20260419T234758
CREATED:20210602T171149Z
LAST-MODIFIED:20250516T150633Z
UID:11910-1750665600-1751025600@www.starofthesea.net
SUMMARY:Vacation Bible School!
DESCRIPTION:Join us for Vacation Bible School CatChat’s Wilderness Adventure Through the Sacraments. We’ll have games\, crafts\, snacks\, music\, and faith. Mark your calendars for a week of fun\, diving deeper into our faith!June 23-27\, 20258AM-Noon dailyCost: $30/child \nRegister before May 31 to receive your child’s t-shirt!We cannot guarantee your child will receive a shirt if you register after May 31. \n			\n				Register Here!\n			\n				\n				\n				\n				\n				Want to be a Volunteer?Volunteers are always needed and we would love to have you be a part of our VBS team! Simply fill out the volunteer form and you will be contacted shortly with details. Thank you! \n				Volunteer Form\n			\n				\n				\n				\n				\n				\nIf you have any questions\, please contact Katey Bellefeuille: Katey@starofthesea.net
URL:https://www.starofthesea.net/event/vacation-bible-school/
LOCATION:Parish Center\, 511 Veneta Ave.\, Bremerton\, WA\, 98337\, United States
CATEGORIES:Youth Ministries
ATTACH;FMTTYPE=image/jpeg:https://www.starofthesea.net/wp-content/uploads/2021/06/Wilderness-Adventure.jpg
ORGANIZER;CN="Katey":MAILTO:katey@starofthesea.net
END:VEVENT
END:VCALENDAR