BEGIN:VCALENDAR
VERSION:2.0
PRODID:-//Our Lady Star of the Sea Catholic Church - ECPv6.15.0.1//NONSGML v1.0//EN
CALSCALE:GREGORIAN
METHOD:PUBLISH
X-ORIGINAL-URL:https://www.starofthesea.net
X-WR-CALDESC:Events for Our Lady Star of the Sea Catholic Church
REFRESH-INTERVAL;VALUE=DURATION:PT1H
X-Robots-Tag:noindex
X-PUBLISHED-TTL:PT1H
BEGIN:VTIMEZONE
TZID:America/Los_Angeles
BEGIN:DAYLIGHT
TZOFFSETFROM:-0800
TZOFFSETTO:-0700
TZNAME:PDT
DTSTART:20230312T100000
END:DAYLIGHT
BEGIN:STANDARD
TZOFFSETFROM:-0700
TZOFFSETTO:-0800
TZNAME:PST
DTSTART:20231105T090000
END:STANDARD
BEGIN:DAYLIGHT
TZOFFSETFROM:-0800
TZOFFSETTO:-0700
TZNAME:PDT
DTSTART:20240310T100000
END:DAYLIGHT
BEGIN:STANDARD
TZOFFSETFROM:-0700
TZOFFSETTO:-0800
TZNAME:PST
DTSTART:20241103T090000
END:STANDARD
BEGIN:DAYLIGHT
TZOFFSETFROM:-0800
TZOFFSETTO:-0700
TZNAME:PDT
DTSTART:20250309T100000
END:DAYLIGHT
BEGIN:STANDARD
TZOFFSETFROM:-0700
TZOFFSETTO:-0800
TZNAME:PST
DTSTART:20251102T090000
END:STANDARD
END:VTIMEZONE
BEGIN:VEVENT
DTSTART;TZID=America/Los_Angeles:20250728T080000
DTEND;TZID=America/Los_Angeles:20250801T120000
DTSTAMP:20260424T052843
CREATED:20250528T204316Z
LAST-MODIFIED:20250528T204316Z
UID:18337-1753689600-1754049600@www.starofthesea.net
SUMMARY:Summer Choir Camp
DESCRIPTION:For boys and girls in grades 5-12 who are interested in singing for Mass at Star of the Sea Church!\nCurrent choir members of the boys 5pm choir and girls 9am choir as well as new singers interested in joining the choir are welcome. \nMonday\, July 28- Friday\, August 1\n8AM – 12PM\nStar of the Sea Church and School Music Room
URL:https://www.starofthesea.net/event/summer-choir-camp/
LOCATION:Our Lady Star of the Sea Church\, 500 Veneta Ave.\, Bremerton\, WA\, 98337\, United States
CATEGORIES:Classes,Ministry,Youth Ministries
ATTACH;FMTTYPE=image/png:https://www.starofthesea.net/wp-content/uploads/2016/07/choirboys.png
ORGANIZER;CN="Mary Castaneda":MAILTO:mary@starofthesea.net
END:VEVENT
BEGIN:VEVENT
DTSTART;TZID=America/Los_Angeles:20250722T073000
DTEND;TZID=America/Los_Angeles:20250724T150000
DTSTAMP:20260424T052843
CREATED:20170602T204401Z
LAST-MODIFIED:20250606T215424Z
UID:3784-1753169400-1753369200@www.starofthesea.net
SUMMARY:Altar Server Boot Camp
DESCRIPTION:Attention All Boys 4th Grade and Up: Altar Server Boot Camp is Approaching!\nExtreme fun camp for ALL servers of Our Lady Star of the Sea Church! \n\nTuesday-Thursday\, July 22-24\, begins with morning Mass until 3:00 PM – *Parent Volunteers needed to help with meal prep!\nThursday\, July 24 is the annual Server Outing. Begins with 7:30 AM Mass until 5PM. Please bring breakfast\, snacks\, and a sack lunch. Dad volunteers needed for chaperoning and carpooling to the destination. \n\n \nIt is encouraged and expected for boys of the parish to be altar servers for at least a year. This is a great opportunity for the boys to give back to the parish and make new friends along the way! \n—– \nPlease email Meg Collier with any questions or concerns.
URL:https://www.starofthesea.net/event/altar-server-boot-camp/
LOCATION:Our Lady Star of the Sea Church\, 500 Veneta Ave.\, Bremerton\, WA\, 98337\, United States
CATEGORIES:Classes,Youth Ministries
ATTACH;FMTTYPE=image/png:https://www.starofthesea.net/wp-content/uploads/2018/05/AltarServerBootCampHeader.png
ORGANIZER;CN="Meg":MAILTO:meg@starofthesea.net
END:VEVENT
BEGIN:VEVENT
DTSTART;TZID=America/Los_Angeles:20250710T073000
DTEND;TZID=America/Los_Angeles:20250711T120000
DTSTAMP:20260424T052843
CREATED:20170605T230508Z
LAST-MODIFIED:20250528T203203Z
UID:3717-1752132600-1752235200@www.starofthesea.net
SUMMARY:Altar Server Rookie Days
DESCRIPTION:Shape up and train to be an Altar Server!\nThursday and Friday\, July 10-11\, 2025begins with morning Mass until Noon \n			\n				\n				\n				\n				\n				Rookie Days is our two-day program offered for all eligible boys who have never been thru training at Star of the Sea. \nWho is eligible?Boys who have completed the 3rd Grade thru High School. \nIt is encouraged and expected for boys of the parish to be altar servers for at least a year. This is a great opportunity for the boys to give back to the parish and make new friends along the way! \n—– \nPlease email Meg Collier with any questions or concerns.
URL:https://www.starofthesea.net/event/altar-boy-rookie-camp/
LOCATION:Our Lady Star of the Sea Church\, 500 Veneta Ave.\, Bremerton\, WA\, 98337\, United States
CATEGORIES:Classes,Youth Ministries
ATTACH;FMTTYPE=image/png:https://www.starofthesea.net/wp-content/uploads/2017/06/AltarServerRookieDaysHeader.png
ORGANIZER;CN="Meg":MAILTO:meg@starofthesea.net
END:VEVENT
BEGIN:VEVENT
DTSTART;TZID=America/Los_Angeles:20230920T173000
DTEND;TZID=America/Los_Angeles:20230920T193000
DTSTAMP:20260424T052843
CREATED:20230816T165649Z
LAST-MODIFIED:20230816T171958Z
UID:16080-1695231000-1695238200@www.starofthesea.net
SUMMARY:Celebrate Calm Parent Workshop
DESCRIPTION:Stop Defiance\, Yelling & Power Struggles \n			\n			\n				\n				\n				\n				\n			\n				\n				\n				\n				\n				\n				\n				\n				\n				\n				\n				\n			\n			\n				\n				\n				\n				\n				\n				\n				\n				\n				\n				Wednesday\, September 20\, 2023Camerman Hall (Church Basement) \n5:30PM  |  Potluck Dinner6:00PM  |  Workshop \nJoin us for this FREE Event! No registration necessary. \n			\n			\n				\n				\n				\n				\n			\n				\n				\n			\n				\n				\n				\n				\n				\n				\n				\n				\n				\n				\n				\n				\n				\n				\n				\n				\n				\n				  \nWANT INSIGHT YOU’VE NEVER HEARD BEFORE?\nCelebrate Calm Founder Kirk Martin\, will provide parents with a dozen strategies that will eliminate defiance\, disrespect\, yelling\, bullying\, sibling fights and more that characterize our homes. Kirk provides concrete\, practical strategies that work with kids ages 2-22 in everyday situations to: \n\nGet your kids to listen the first time\nStop defiance with toddlers and teens\nStop whining\, tantrums\, and sibling fights\nStop daily fights over homework\, screens\, and morning routine\n\n  \n			\n			\n				\n				\n				\n				\n			\n				\n				\n			\n				\n				\n				\n				\n				\n				\n				\n				\n				\n				\n				\n				\n				\n				\n				\n				\n				\n				\n			\n			\n				\n				\n				\n				\n			\n				\n				\n			\n				\n				\n				\n				\n				\n				\n				\n				\n				\n				\n				\n				\n				\n				\n				\n				\n				\n				\n			\n				\n				\n				\n				\n				\n			\n			\n				\n				\n				\n				\n				\n				\n				\n				\n				\n				Watch Video Clips and Learn More at\ncelebratecalm.com/podcasts \n  \n			\n				\n				\n				\n				\n				For Questions\, contact Casey:\nCasey@celebrateCalm.com | 888.506.1871\n\n 
URL:https://www.starofthesea.net/event/celebrate-calm-parent-workshop/
LOCATION:Camerman Hall
CATEGORIES:Classes,Talks/Missions
END:VEVENT
END:VCALENDAR