BEGIN:VCALENDAR
VERSION:2.0
PRODID:-//Our Lady Star of the Sea Catholic Church - ECPv6.15.0.1//NONSGML v1.0//EN
CALSCALE:GREGORIAN
METHOD:PUBLISH
X-ORIGINAL-URL:https://www.starofthesea.net
X-WR-CALDESC:Events for Our Lady Star of the Sea Catholic Church
REFRESH-INTERVAL;VALUE=DURATION:PT1H
X-Robots-Tag:noindex
X-PUBLISHED-TTL:PT1H
BEGIN:VTIMEZONE
TZID:America/Los_Angeles
BEGIN:DAYLIGHT
TZOFFSETFROM:-0800
TZOFFSETTO:-0700
TZNAME:PDT
DTSTART:20210314T100000
END:DAYLIGHT
BEGIN:STANDARD
TZOFFSETFROM:-0700
TZOFFSETTO:-0800
TZNAME:PST
DTSTART:20211107T090000
END:STANDARD
BEGIN:DAYLIGHT
TZOFFSETFROM:-0800
TZOFFSETTO:-0700
TZNAME:PDT
DTSTART:20220313T100000
END:DAYLIGHT
BEGIN:STANDARD
TZOFFSETFROM:-0700
TZOFFSETTO:-0800
TZNAME:PST
DTSTART:20221106T090000
END:STANDARD
BEGIN:DAYLIGHT
TZOFFSETFROM:-0800
TZOFFSETTO:-0700
TZNAME:PDT
DTSTART:20230312T100000
END:DAYLIGHT
BEGIN:STANDARD
TZOFFSETFROM:-0700
TZOFFSETTO:-0800
TZNAME:PST
DTSTART:20231105T090000
END:STANDARD
BEGIN:DAYLIGHT
TZOFFSETFROM:-0800
TZOFFSETTO:-0700
TZNAME:PDT
DTSTART:20240310T100000
END:DAYLIGHT
BEGIN:STANDARD
TZOFFSETFROM:-0700
TZOFFSETTO:-0800
TZNAME:PST
DTSTART:20241103T090000
END:STANDARD
BEGIN:DAYLIGHT
TZOFFSETFROM:-0800
TZOFFSETTO:-0700
TZNAME:PDT
DTSTART:20250309T100000
END:DAYLIGHT
BEGIN:STANDARD
TZOFFSETFROM:-0700
TZOFFSETTO:-0800
TZNAME:PST
DTSTART:20251102T090000
END:STANDARD
END:VTIMEZONE
BEGIN:VEVENT
DTSTART;TZID=America/Los_Angeles:20250619T183000
DTEND;TZID=America/Los_Angeles:20250619T200000
DTSTAMP:20260425T190139
CREATED:20250115T200217Z
LAST-MODIFIED:20250123T002913Z
UID:17959-1750357800-1750363200@www.starofthesea.net
SUMMARY:The Wonderful Counselor: Flourishing Together Through Christ – Seminar 4
DESCRIPTION:To live just a little more like Jesus each day\, join our final seminar! \nThursday\, June 19\, 2025\n6:30-8:00pm\nOur Lady Star of the Sea Church\, Center Rooms 1 & 2 \nCatholic Therapist and Clinical Director\, Latisha Sternod\, MS\, will be facilitating these live events. Ideal for everyone – ranging from those starting to explore the Catholic Christian faith to those seasoned in their walk with the Lord – because we all are starting anew each day to live a little more like Jesus! \n________________________________________ \nEmbark on a transformative journey with us\, exploring how personal and communal flourishing is deeply rooted in a relationship with Jesus Christ. Each month\, we will delve into essential themes such as embracing our identity in Christ\, strengthening our faith amidst cultural challenges\, embodying Christ through worship and daily life\, and manifesting His love in the world. Through interactive learning\, emotional and spiritual healing practices\, and community building\, discover how Christ as our Wonderful Counselor guides us to a life of true fulfillment and purpose.
URL:https://www.starofthesea.net/event/human-flourishing-yours-and-mine-seminar-4/
LOCATION:Parish Center\, 511 Veneta Ave.\, Bremerton\, WA\, 98337\, United States
CATEGORIES:Adult Ministries,All Church,Talks/Missions
ATTACH;FMTTYPE=image/jpeg:https://www.starofthesea.net/wp-content/uploads/2025/01/Wonderful-Counselor-Header.jpg
END:VEVENT
BEGIN:VEVENT
DTSTART;TZID=America/Los_Angeles:20250516T180000
DTEND;TZID=America/Los_Angeles:20250517T150000
DTSTAMP:20260425T190139
CREATED:20250416T181750Z
LAST-MODIFIED:20250429T185320Z
UID:18205-1747418400-1747494000@www.starofthesea.net
SUMMARY:Bremerton Parish Men's Retreat
DESCRIPTION:Friday\, May 16 \n6:00 – 10:00 PMin Camerman Hall @ Star of the Sea \n				\n			\n			\n				\n				\n				\n				\n				\n				\n				\n				\n				\n				Saturday\, May 17 \n8:00AM – 3:00PMin the Social Hall @ Holy Trinity \n				\n			\n			\n				\n				\n				\n				\n			\n				\n				\n				\n				\n				\n				\n				\n				\n				\n				\n				Join your fellow men at the 1st annual new-and-improved men’s retreat:\n\nMeet fellow parishioners\nRediscover brotherhood\nListen to witness talks\nTime for reflection\, adoration\, and prayer\n\n*Friday dinner\, Saturday breakfast & lunch provided. No overnight stay.**Invitation is for all men 18 and older even if you attended a Welcome Retreat. \n			\n				Register Today!
URL:https://www.starofthesea.net/event/bremerton-parish-mens-retreat/
LOCATION:WA
CATEGORIES:Adult Ministries,Retreat
ATTACH;FMTTYPE=image/jpeg:https://www.starofthesea.net/wp-content/uploads/2025/04/Mens-Retreat-Banner-no-dates.jpg
END:VEVENT
BEGIN:VEVENT
DTSTART;TZID=America/Los_Angeles:20250515T183000
DTEND;TZID=America/Los_Angeles:20250515T200000
DTSTAMP:20260425T190139
CREATED:20250115T200030Z
LAST-MODIFIED:20250123T002811Z
UID:17957-1747333800-1747339200@www.starofthesea.net
SUMMARY:The Wonderful Counselor: Flourishing Together Through Christ – Seminar 3
DESCRIPTION:To live just a little more like Jesus each day\, join our monthly seminars! \n6:30-8:00pm\nOur Lady Star of the Sea Church\, Center Rooms 1 & 2 \nCatholic Therapist and Clinical Director\, Latisha Sternod\, MS\, will be facilitating these live events. Ideal for everyone – ranging from those starting to explore the Catholic Christian faith to those seasoned in their walk with the Lord – because we all are starting anew each day to live a little more like Jesus! \n________________________________________ \nEmbark on a transformative journey with us through a four-part seminar series\, exploring how personal and communal flourishing is deeply rooted in a relationship with Jesus Christ. Each month\, we will delve into essential themes such as embracing our identity in Christ\, strengthening our faith amidst cultural challenges\, embodying Christ through worship and daily life\, and manifesting His love in the world. Through interactive learning\, emotional and spiritual healing practices\, and community building\, discover how Christ as our Wonderful Counselor guides us to a life of true fulfillment and purpose.  \n________________________________________ \nFinal Seminar:\n\nThursday\, June 19
URL:https://www.starofthesea.net/event/human-flourishing-yours-and-mine-seminar-3/
LOCATION:Parish Center\, 511 Veneta Ave.\, Bremerton\, WA\, 98337\, United States
CATEGORIES:Adult Ministries,All Church,Talks/Missions
ATTACH;FMTTYPE=image/jpeg:https://www.starofthesea.net/wp-content/uploads/2025/01/Wonderful-Counselor-Header.jpg
END:VEVENT
BEGIN:VEVENT
DTSTART;TZID=America/Los_Angeles:20250508T123000
DTEND;TZID=America/Los_Angeles:20250508T143000
DTSTAMP:20260425T190139
CREATED:20250501T152052Z
LAST-MODIFIED:20250501T152052Z
UID:18277-1746707400-1746714600@www.starofthesea.net
SUMMARY:Senior Social is Back!
DESCRIPTION:Our senior potlucks are back on the calendar! This is the perfect time to make new friends and reconnect with old ones.\nMeet the new Outreach Director\, Roseanne Murphy.\nBring a dish to share and ideas for future gatherings. \n We will meet at Holy Trinity Church’s Social Hall at 12:30pm.
URL:https://www.starofthesea.net/event/senior-social-is-back/
LOCATION:Holy Trinity Church\, 4215 Pine Rd. NE\, Bremerton\, WA\, 98310\, United States
CATEGORIES:Adult Ministries,Ministry
END:VEVENT
BEGIN:VEVENT
DTSTART;TZID=America/Los_Angeles:20250320T183000
DTEND;TZID=America/Los_Angeles:20250320T200000
DTSTAMP:20260425T190139
CREATED:20250115T195917Z
LAST-MODIFIED:20250123T002637Z
UID:17955-1742495400-1742500800@www.starofthesea.net
SUMMARY:The Wonderful Counselor: Flourishing Together Through Christ – Seminar 2
DESCRIPTION:To live just a little more like Jesus each day\, join our monthly seminars! \n6:30-8:00pm\nOur Lady Star of the Sea Church\, Center Rooms 1 & 2 \nCatholic Therapist and Clinical Director\, Latisha Sternod\, MS\, will be facilitating these live events. Don’t miss out on learning more about yourself\, how to increase your personal wholeness\, and how to contribute to the faith-filled flourishing around you. \n________________________________________ \nEmbark on a transformative journey with us through a four-part seminar series\, exploring how personal and communal flourishing is deeply rooted in a relationship with Jesus Christ. Each month\, we will delve into essential themes such as embracing our identity in Christ\, strengthening our faith amidst cultural challenges\, embodying Christ through worship and daily life\, and manifesting His love in the world. Through interactive learning\, emotional and spiritual healing practices\, and community building\, discover how Christ as our Wonderful Counselor guides us to a life of true fulfillment and purpose.  \nIdeal for everyone – ranging from those starting to explore the Catholic Christian faith to those seasoned in their walk with the Lord – because we all are starting anew each day to live a little more like Jesus! \n________________________________________ \nUpcoming Seminars:\n\nThursday\, May 15\nThursday\, June 19
URL:https://www.starofthesea.net/event/human-flourishing-yours-and-mine-seminar-2/
LOCATION:Parish Center\, 511 Veneta Ave.\, Bremerton\, WA\, 98337\, United States
CATEGORIES:Adult Ministries,All Church,Talks/Missions
ATTACH;FMTTYPE=image/jpeg:https://www.starofthesea.net/wp-content/uploads/2025/01/Wonderful-Counselor-Header.jpg
END:VEVENT
BEGIN:VEVENT
DTSTART;TZID=America/Los_Angeles:20250315T103000
DTEND;TZID=America/Los_Angeles:20250315T120000
DTSTAMP:20260425T190139
CREATED:20250305T231855Z
LAST-MODIFIED:20250305T231855Z
UID:18096-1742034600-1742040000@www.starofthesea.net
SUMMARY:The Jesus Prayer-A Pathway to Trauma Recovery
DESCRIPTION:The Jesus Prayer – A Pathway to Trauma Recovery\nPresented by Gabriel Crawford\, LMHC \nMARCH 15 from 10:30am – Noon\nStar of the Sea School Gym \nIf Jesus promised that he has come to give life in its fullness (Jn. 10:10)\, then why do so many Catholics feel like they are not flourishing?\nHave you ever intimately examined your life story\, considering the impact of past heartache upon your body\, soul\, and spirit today? \nThis workshop presents trauma by connecting Polyvagal Theory to Catholic spirituality and explores how the practice of the Jesus Prayer can reconnect us to our body and to the love of the Father through the Son and in the Spirit. \nPlease wear comfortable clothing\, because there will be movement in this workshop (not yoga).  \n 
URL:https://www.starofthesea.net/event/the-jesus-prayer-a-pathway-to-trauma-recovery/
LOCATION:School Gym\, 511 Veneta Ave\, Bremerton\, WA
CATEGORIES:Adult Ministries
END:VEVENT
BEGIN:VEVENT
DTSTART;TZID=America/Los_Angeles:20250220T183000
DTEND;TZID=America/Los_Angeles:20250220T200000
DTSTAMP:20260425T190139
CREATED:20250115T195653Z
LAST-MODIFIED:20250123T002803Z
UID:17952-1740076200-1740081600@www.starofthesea.net
SUMMARY:The Wonderful Counselor: Flourishing Together Through Christ - Seminar 1
DESCRIPTION:To live just a little more like Jesus each day\, join our monthly seminars! \n6:30-8:00pm\nOur Lady Star of the Sea Church\, Center Rooms 1 & 2 \nCatholic Therapist and Clinical Director\, Latisha Sternod\, MS\, will be facilitating these live events. Ideal for everyone – ranging from those starting to explore the Catholic Christian faith to those seasoned in their walk with the Lord – because we all are starting anew each day to live a little more like Jesus! \n________________________________________ \nEmbark on a transformative journey with us through a four-part seminar series\, exploring how personal and communal flourishing is deeply rooted in a relationship with Jesus Christ. Each month\, we will delve into essential themes such as embracing our identity in Christ\, strengthening our faith amidst cultural challenges\, embodying Christ through worship and daily life\, and manifesting His love in the world. Through interactive learning\, emotional and spiritual healing practices\, and community building\, discover how Christ as our Wonderful Counselor guides us to a life of true fulfillment and purpose. \n________________________________________ \nUpcoming Seminars:\n\nThursday\, March 20\nThursday\, May 15\nThursday\, June 19
URL:https://www.starofthesea.net/event/human-flourishing-yours-and-mine-seminar-1/
LOCATION:Parish Center\, 511 Veneta Ave.\, Bremerton\, WA\, 98337\, United States
CATEGORIES:Adult Ministries,All Church,Talks/Missions
ATTACH;FMTTYPE=image/jpeg:https://www.starofthesea.net/wp-content/uploads/2025/01/Wonderful-Counselor-Header.jpg
END:VEVENT
BEGIN:VEVENT
DTSTART;TZID=America/Los_Angeles:20250207T190000
DTEND;TZID=America/Los_Angeles:20250207T203000
DTSTAMP:20260425T190139
CREATED:20250114T004601Z
LAST-MODIFIED:20250114T215126Z
UID:17906-1738954800-1738960200@www.starofthesea.net
SUMMARY:Ladies Night with Sr. Solanus Casey
DESCRIPTION:Friday\, February 7 @ 7:00pm\nOur Lady Star of the Sea\,Camerman Hall \nSurrendering Our Anxieties to God: Entrusting the past to His mercy and the future to His providence\, while living with Him in the present moment. Join us for dessert\, coffee\, and discussion. \nPlease RSVP so we can provide enough dessert for our guests. Thank you!  \n			\n				RSVP Here\n			\n				\n				\n				\n				\n				\n				\n					About Sr. Solanus Casey\, S.O.L.T.\n					Guest Speaker \n					Sr. Solanus grew up in Indiana just outside of Indianapolis. She has one brother\, and he is serving as a diocesan priest in Indiana. She felt God calling her to religious life when she was 16. She studied Catechesis and Theology at the Franciscan University of Steubenville. After graduating she volunteered on the Turtle Mountain Indian Reservation in North Dakota with the Society of Our Lady of the Most Holy Trinity. She served there for two years as a youth minister and then entered the sisters in 2008. She made her first vows in 2012. Sister has served in Seattle\, Detroit\, and Corpus Christi\, and is currently teaching religion at a Catholic School in Phoenix.
URL:https://www.starofthesea.net/event/ladies-night-with-sr-solanus-casey/
LOCATION:Camerman Hall
CATEGORIES:Adult Ministries
ATTACH;FMTTYPE=image/jpeg:https://www.starofthesea.net/wp-content/uploads/2025/01/Ladies-Night-w-Sr-Solanus-Casey-header.jpg
END:VEVENT
BEGIN:VEVENT
DTSTART;TZID=America/Los_Angeles:20241012T090000
DTEND;TZID=America/Los_Angeles:20241012T140000
DTSTAMP:20260425T190139
CREATED:20240918T190633Z
LAST-MODIFIED:20240918T191707Z
UID:17604-1728723600-1728741600@www.starofthesea.net
SUMMARY:Day of Recollection w/Patrick Whalen
DESCRIPTION:Saturday\, October 12  |  9:00am – 2pm  |  Camerman Hall\nBegins with the 9:00am Mass in the Church –Childcare provided – \n \nClick the RSVP button below so we can plan for meals and childcare.\n			\n				RSVP Here\n			\n				\n				\n				\n				\n				Schedule: \n\n9:00 am – Morning Mass\n9:45 am – Brief Morning Snack\nTalk #1: Reason\, Religion\, Kindness: Don Bosco and the Preventive Method\nTalk #2: Technology in the Home and the Heart\nTalk #3: The Agamemnon Effect: How Our Work Culture Damages Families\n12:30 pm – Lunch\nTalk #4: Catholic Anthropology & Catholic Education: Resources for Catholic Educators and Parents\n\n			\n				\n				\n				\n				\n				About Patrick Whalen \nPatrick is an entrepreneur\, small business owner\, and experienced academic administrator at the secondary and post-secondary levels. He served for over a decade in the United States Marine Corps where he deployed multiple times and served in a variety of leadership roles. He has extensive educational experience as a teacher\, head of school\, and school founder\, and served as an assistant to the President of Hillsdale College. His educational initiatives include founding and leading St. Martin’s Academy\, a farm-based boarding school\, as well as Iliad Athletics\, providing curricula and training in fitness\, outdoorsmanship\, and character development. Patrick has a B.A. from the University of Michigan\, and a M.A. from Washington University in St. Louis. His essays and poetry have appeared or are forthcoming in a variety of journals including the Marine Corps Gazette\, Michigan Quarterly Review\, Arion: A Journal of Humanities and the Classics\, The New Criterion\, and Touchstone.
URL:https://www.starofthesea.net/event/day-of-recollection-w-patrick-whalen/
LOCATION:Camerman Hall
CATEGORIES:Adult Ministries,All Church,Talks/Missions
ATTACH;FMTTYPE=image/jpeg:https://www.starofthesea.net/wp-content/uploads/2024/09/Day-of-Recollection-header-Oct-24.jpg
END:VEVENT
BEGIN:VEVENT
DTSTART;TZID=America/Los_Angeles:20240814T180000
DTEND;TZID=America/Los_Angeles:20240814T193000
DTSTAMP:20260425T190139
CREATED:20240718T163517Z
LAST-MODIFIED:20240718T163710Z
UID:17301-1723658400-1723663800@www.starofthesea.net
SUMMARY:Parish Family Hour-Summer Schedule
DESCRIPTION:Summer Schedule\n6:00pm  Potluck in Camerman Hall\n6:30pm  Reading and Discussion on “The Catholic Parent” series\n7:30pm  Gather in the Church for Night Prayer\n  \n\n\n\n\n\n\nFor the Children\nAll children and youth will have an opportunity to enjoy summer with their fellow parish friends and partake in fun activities either in the JP2 Youth Center\, Gym\, or park (weather permitting). These activities will foster faith\, community\, and relationships in our children and youth. \n  \n\n\n\n\nFor the Adults\nAdults are invited to gather in Camerman Hall (church basement) for formation and discussion on “The Catholic Parent” video series. Created through a collaboration between the Augustine Institute and Catholic Sprouts\, each episode in this stunning video series features real Catholic parents sharing their struggles and victories. Large and small families\, families with young children and older children\, and single-parent families; The Catholic Parent series strives to create a resource to support every Catholic family in their unique faith journey. \nBe Empowered to:  \n• Faithfully take your family to Sunday Mass\, even in difficult seasons. \n• Commit to praying as a family\, even when life is hectic. \n• Live sacrificially for each other out of love\, even when it’s uncomfortable. \n• Give generously to those in need\, even when it requires a lot of trust.
URL:https://www.starofthesea.net/event/parish-family-hour-summer-schedule-4/
LOCATION:Camerman Hall
CATEGORIES:Adult Ministries,All Church,Youth Ministries
ATTACH;FMTTYPE=image/jpeg:https://www.starofthesea.net/wp-content/uploads/2022/06/Parish-Family-Hour-Slider2.jpg
END:VEVENT
BEGIN:VEVENT
DTSTART;TZID=America/Los_Angeles:20240807T180000
DTEND;TZID=America/Los_Angeles:20240807T193000
DTSTAMP:20260425T190139
CREATED:20240718T163439Z
LAST-MODIFIED:20240718T163606Z
UID:17299-1723053600-1723059000@www.starofthesea.net
SUMMARY:Parish Family Hour-Summer Schedule
DESCRIPTION:Summer Schedule\n6:00pm  Potluck in Camerman Hall\n6:30pm  Reading and Discussion on “The Catholic Parent” series\n7:30pm  Gather in the Church for Night Prayer\n  \n\n\n\n\n\n\nFor the Children\nAll children and youth will have an opportunity to enjoy summer with their fellow parish friends and partake in fun activities either in the JP2 Youth Center\, Gym\, or park (weather permitting). These activities will foster faith\, community\, and relationships in our children and youth. \n  \n\n\n\n\nFor the Adults\nAdults are invited to gather in Camerman Hall (church basement) for formation and discussion on “The Catholic Parent” video series. Created through a collaboration between the Augustine Institute and Catholic Sprouts\, each episode in this stunning video series features real Catholic parents sharing their struggles and victories. Large and small families\, families with young children and older children\, and single-parent families; The Catholic Parent series strives to create a resource to support every Catholic family in their unique faith journey. \nBe Empowered to:  \n• Faithfully take your family to Sunday Mass\, even in difficult seasons. \n• Commit to praying as a family\, even when life is hectic. \n• Live sacrificially for each other out of love\, even when it’s uncomfortable. \n• Give generously to those in need\, even when it requires a lot of trust.
URL:https://www.starofthesea.net/event/parish-family-hour-summer-schedule-3/
LOCATION:Camerman Hall
CATEGORIES:Adult Ministries,All Church,Youth Ministries
ATTACH;FMTTYPE=image/jpeg:https://www.starofthesea.net/wp-content/uploads/2022/06/Parish-Family-Hour-Slider2.jpg
END:VEVENT
BEGIN:VEVENT
DTSTART;TZID=America/Los_Angeles:20240731T180000
DTEND;TZID=America/Los_Angeles:20240731T193000
DTSTAMP:20260425T190139
CREATED:20240718T163355Z
LAST-MODIFIED:20240718T163355Z
UID:17297-1722448800-1722454200@www.starofthesea.net
SUMMARY:Parish Family Hour-Summer Schedule
DESCRIPTION:Summer Schedule\n6:00pm  Potluck in Camerman Hall\n6:30pm  Reading and Discussion on “The Catholic Parent” series\n7:30pm  Gather in the Church for Night Prayer\n  \n\n\n\n\n\n\nFor the Children\nAll children and youth will have an opportunity to enjoy summer with their fellow parish friends and partake in fun activities either in the JP2 Youth Center\, Gym\, or park (weather permitting). These activities will foster faith\, community\, and relationships in our children and youth. \n  \n\n\n\n\nFor the Adults\nAdults are invited to gather in Camerman Hall (church basement) for formation and discussion on “The Catholic Parent” video series. Created through a collaboration between the Augustine Institute and Catholic Sprouts\, each episode in this stunning video series features real Catholic parents sharing their struggles and victories. Large and small families\, families with young children and older children\, and single-parent families; The Catholic Parent series strives to create a resource to support every Catholic family in their unique faith journey. \nBe Empowered to:  \n• Faithfully take your family to Sunday Mass\, even in difficult seasons. \n• Commit to praying as a family\, even when life is hectic. \n• Live sacrificially for each other out of love\, even when it’s uncomfortable. \n• Give generously to those in need\, even when it requires a lot of trust.
URL:https://www.starofthesea.net/event/parish-family-hour-summer-schedule-2/
LOCATION:Camerman Hall
CATEGORIES:Adult Ministries,All Church
ATTACH;FMTTYPE=image/jpeg:https://www.starofthesea.net/wp-content/uploads/2022/06/Parish-Family-Hour-Slider2.jpg
END:VEVENT
BEGIN:VEVENT
DTSTART;TZID=America/Los_Angeles:20210424T100000
DTEND;TZID=America/Los_Angeles:20210424T120000
DTSTAMP:20260425T190139
CREATED:20210406T191621Z
LAST-MODIFIED:20210406T191621Z
UID:11731-1619258400-1619265600@www.starofthesea.net
SUMMARY:PREPARES Meeting
DESCRIPTION:Saturday April\, 24 from 10:00am-12:00pm\nCenter Rooms 1 & 2\nFor those interested in helping to support mothers\, infants\, or families\, please attend the PREPARES follow-up meeting where we will briefly recap our last meeting’s discussion\, establish individual roles and directives\, and determine next steps on how WE can best help n ew mothers and families in need.\nWe look forward to seeing you there!\n  \n\n \n“Instruct them to do good\, to be rich in good works\, to be generous and ready to share.” \n1 Timothy 6:18 
URL:https://www.starofthesea.net/event/prepares-meeting/
LOCATION:WA
CATEGORIES:Adult Ministries
ATTACH;FMTTYPE=image/jpeg:https://www.starofthesea.net/wp-content/uploads/2021/04/Prepares-header.jpg
END:VEVENT
END:VCALENDAR