BEGIN:VCALENDAR
VERSION:2.0
PRODID:-//Our Lady Star of the Sea Catholic Church - ECPv6.15.0.1//NONSGML v1.0//EN
CALSCALE:GREGORIAN
METHOD:PUBLISH
X-ORIGINAL-URL:https://www.starofthesea.net
X-WR-CALDESC:Events for Our Lady Star of the Sea Catholic Church
REFRESH-INTERVAL;VALUE=DURATION:PT1H
X-Robots-Tag:noindex
X-PUBLISHED-TTL:PT1H
BEGIN:VTIMEZONE
TZID:America/Los_Angeles
BEGIN:DAYLIGHT
TZOFFSETFROM:-0800
TZOFFSETTO:-0700
TZNAME:PDT
DTSTART:20260308T100000
END:DAYLIGHT
BEGIN:STANDARD
TZOFFSETFROM:-0700
TZOFFSETTO:-0800
TZNAME:PST
DTSTART:20261101T090000
END:STANDARD
END:VTIMEZONE
BEGIN:VEVENT
DTSTART;TZID=America/Los_Angeles:20260120T183000
DTEND;TZID=America/Los_Angeles:20260120T183000
DTSTAMP:20260423T050128
CREATED:20260115T175950Z
LAST-MODIFIED:20260115T180408Z
UID:18988-1768933800-1768933800@www.starofthesea.net
SUMMARY:Memorial Mass for the Unborn
DESCRIPTION:A memorial Mass will be offered for all children lost to miscarriage in our community in the past year.* A light reception in Camerman Hall to follow. \nClick the button below to add your child’s name(s) to the Mass intention: \n			\n				Add to Mass Intention \n			\n				\n				\n				\n				\n				*If you have ever had a miscarriage\, even if it’s beyond a year\, and never had a Mass offered for your child\, you are welcome to include them in this Mass. \n——– \nSponsored by OLSOS Miscarriage Support Ministry and the Confraternity of Christian Mothers.
URL:https://www.starofthesea.net/event/memorial-mass-for-the-unborn/
LOCATION:Our Lady Star of the Sea Church\, 500 Veneta Ave.\, Bremerton\, WA\, 98337\, United States
ATTACH;FMTTYPE=image/jpeg:https://www.starofthesea.net/wp-content/uploads/2024/10/pexels-trina-snow-1033141-scaled.jpg
END:VEVENT
END:VCALENDAR