BEGIN:VCALENDAR
VERSION:2.0
PRODID:-//Our Lady Star of the Sea Catholic Church - ECPv6.15.0.1//NONSGML v1.0//EN
CALSCALE:GREGORIAN
METHOD:PUBLISH
X-ORIGINAL-URL:https://www.starofthesea.net
X-WR-CALDESC:Events for Our Lady Star of the Sea Catholic Church
REFRESH-INTERVAL;VALUE=DURATION:PT1H
X-Robots-Tag:noindex
X-PUBLISHED-TTL:PT1H
BEGIN:VTIMEZONE
TZID:America/Los_Angeles
BEGIN:DAYLIGHT
TZOFFSETFROM:-0800
TZOFFSETTO:-0700
TZNAME:PDT
DTSTART:20250309T100000
END:DAYLIGHT
BEGIN:STANDARD
TZOFFSETFROM:-0700
TZOFFSETTO:-0800
TZNAME:PST
DTSTART:20251102T090000
END:STANDARD
END:VTIMEZONE
BEGIN:VEVENT
DTSTART;TZID=America/Los_Angeles:20250715T180000
DTEND;TZID=America/Los_Angeles:20250715T193000
DTSTAMP:20260425T041530
CREATED:20250630T202800Z
LAST-MODIFIED:20250630T202855Z
UID:18461-1752602400-1752607800@www.starofthesea.net
SUMMARY:Soil & Garden Series
DESCRIPTION:Feed your body\, mind\, and spirit in the garden.\nRelax\, unwind\, build community\, and be inspired. Join us in the OLSOS School Garden for some food-for-thought\, taste testing\, horticulture demonstrations\, and more!These events are for the whole family – All are welcome! Invite your friends and neighbors. \nTuesdays at 6:00PMSchool Garden (Located down the street from the church on the corner of 4th and Veneta)\n  \n			\n				\n				\n				\n				\n				This Week's ActivityStart seeds for your fall garden.Seed crafts
URL:https://www.starofthesea.net/event/soil-garden-series-2/
LOCATION:OLSOS School Garden\, Corner of 4th Street and Veneta Ave.\, Bremerton\, WA\, 98337\, United States
CATEGORIES:All Church
ATTACH;FMTTYPE=image/jpeg:https://www.starofthesea.net/wp-content/uploads/2025/06/Soil-and-Garden-Series.jpg
END:VEVENT
END:VCALENDAR