BEGIN:VCALENDAR
VERSION:2.0
PRODID:-//Our Lady Star of the Sea Catholic Church - ECPv6.15.0.1//NONSGML v1.0//EN
CALSCALE:GREGORIAN
METHOD:PUBLISH
X-WR-CALNAME:Our Lady Star of the Sea Catholic Church
X-ORIGINAL-URL:https://www.starofthesea.net
X-WR-CALDESC:Events for Our Lady Star of the Sea Catholic Church
REFRESH-INTERVAL;VALUE=DURATION:PT1H
X-Robots-Tag:noindex
X-PUBLISHED-TTL:PT1H
BEGIN:VTIMEZONE
TZID:America/Los_Angeles
BEGIN:DAYLIGHT
TZOFFSETFROM:-0800
TZOFFSETTO:-0700
TZNAME:PDT
DTSTART:20250309T100000
END:DAYLIGHT
BEGIN:STANDARD
TZOFFSETFROM:-0700
TZOFFSETTO:-0800
TZNAME:PST
DTSTART:20251102T090000
END:STANDARD
END:VTIMEZONE
BEGIN:VEVENT
DTSTART;TZID=America/Los_Angeles:20250713T110000
DTEND;TZID=America/Los_Angeles:20250713T123000
DTSTAMP:20260425T041256
CREATED:20250620T165835Z
LAST-MODIFIED:20250620T171523Z
UID:18368-1752404400-1752409800@www.starofthesea.net
SUMMARY:Under Mary's Mantle of Hope
DESCRIPTION:Join Fr. Lawrence Lew\, O.P. – author\, evangelist\, EWTN host\, and Promoter General of the Holy Rosary – for a powerful Marian Talk! \nSUNDAY\,  JULY 13 @ 11AMOur Lady Star of the Sea Church.Join us for Mass\, followed by a talk and reception  \n			\n				\n				\n				\n				\n				The Path to a Deeper Friendship with ChristIn this Marian talk\, rediscover the theological depth of the Rosary\, its vital connection to the virtue of hope\, and how it can rekindle hope in your heart\, especially this year during the Jubilee of Hope. \nWhether you are a Marian devotee or simply curious about her role in the church\, this is an opportunity to strengthen your relationship with God through her guidance. \n				Register Here\n			\n				\n				\n				\n				\n				Other Marian Talks:\n\nJULY 10 – St. Philomena\, Des Moines\nJULY 16 – Mary Queen of Peace\, Sammamish\nJULY 17 – St. Teresa of Calcutta\, Woodinville\nJULY 19 – Blessed Sacrament\, Seattle
URL:https://www.starofthesea.net/event/under-marys-mantle-of-hope/
LOCATION:Our Lady Star of the Sea Church\, 500 Veneta Ave.\, Bremerton\, WA\, 98337\, United States
CATEGORIES:All Church,Talks/Missions
ATTACH;FMTTYPE=image/jpeg:https://www.starofthesea.net/wp-content/uploads/2025/06/Archdiocese-Promo-1440-X-550_OUR-LADY-STAR-OF-THE-SEA_V2.jpg
END:VEVENT
END:VCALENDAR