BEGIN:VCALENDAR
VERSION:2.0
PRODID:-//Our Lady Star of the Sea Catholic Church - ECPv6.15.0.1//NONSGML v1.0//EN
CALSCALE:GREGORIAN
METHOD:PUBLISH
X-ORIGINAL-URL:https://www.starofthesea.net
X-WR-CALDESC:Events for Our Lady Star of the Sea Catholic Church
REFRESH-INTERVAL;VALUE=DURATION:PT1H
X-Robots-Tag:noindex
X-PUBLISHED-TTL:PT1H
BEGIN:VTIMEZONE
TZID:America/Los_Angeles
BEGIN:DAYLIGHT
TZOFFSETFROM:-0800
TZOFFSETTO:-0700
TZNAME:PDT
DTSTART:20250309T100000
END:DAYLIGHT
BEGIN:STANDARD
TZOFFSETFROM:-0700
TZOFFSETTO:-0800
TZNAME:PST
DTSTART:20251102T090000
END:STANDARD
END:VTIMEZONE
BEGIN:VEVENT
DTSTART;TZID=America/Los_Angeles:20250223T180000
DTEND;TZID=America/Los_Angeles:20250227T200000
DTSTAMP:20260419T111219
CREATED:20250115T194432Z
LAST-MODIFIED:20250210T205723Z
UID:17948-1740333600-1740686400@www.starofthesea.net
SUMMARY:Parish Family Lenten Mission
DESCRIPTION:PARISH LENTEN MISSION w/Fr. Peter Schavitz\, CSsR\nFebruary 23-27\, 2025\nAt Holy Trinity Church – 4215 Pine Rd.\, NE \n\n\nSCHEDULE:\nSUNDAY\,  FEB. 23:             6:00pm    Mission Begins (Theme: Bible) \n                                              7:30pm     Hospitality in the Social Hall \nMONDAY\, FEB. 24:            9:00am     Daily Mass w/Fr. Peter \n                                                 9:45am     Hospitality in the Social Hall \n                                                 6:00pm     Mission Begins (Theme: Crucifix) \n                                                 7:30pm     Hospitality in the Social Hall \nTUESDAY\, FEB. 25:            9:00am     Daily Mass w/Fr. Peter \n                                                 9:45am     Hospitality in the Social Hall \n                                                 6:00pm     Mission Begins (Theme: Ashes) \n                                                 7:30pm     Hospitality in the Social Hall \nWEDNESDAY\, FEB. 26:     9:00am     Daily Mass w/Fr. Peter \n                                                  9:45am     Hospitality in the Social Hall \n                                                  6:00pm     Mission Begins (Theme: Bread) \n                                                  7:30pm     Hospitality in the Social Hall \nTHURSDAY\, FEB. 27:         9:00am     NO MORNING MASS \n                                                 6:00pm     Eucharist Celebration (Theme: Altar) \n                                                 7:30pm     Hospitality in the Social Hall
URL:https://www.starofthesea.net/event/parish-family-lenten-mission/
LOCATION:Holy Trinity Church\, 4215 Pine Rd. NE\, Bremerton\, WA\, 98310\, United States
CATEGORIES:All Church,Talks/Missions
END:VEVENT
END:VCALENDAR