BEGIN:VCALENDAR
VERSION:2.0
PRODID:-//Our Lady Star of the Sea Catholic Church - ECPv6.15.0.1//NONSGML v1.0//EN
CALSCALE:GREGORIAN
METHOD:PUBLISH
X-WR-CALNAME:Our Lady Star of the Sea Catholic Church
X-ORIGINAL-URL:https://www.starofthesea.net
X-WR-CALDESC:Events for Our Lady Star of the Sea Catholic Church
REFRESH-INTERVAL;VALUE=DURATION:PT1H
X-Robots-Tag:noindex
X-PUBLISHED-TTL:PT1H
BEGIN:VTIMEZONE
TZID:America/Los_Angeles
BEGIN:DAYLIGHT
TZOFFSETFROM:-0800
TZOFFSETTO:-0700
TZNAME:PDT
DTSTART:20230312T100000
END:DAYLIGHT
BEGIN:STANDARD
TZOFFSETFROM:-0700
TZOFFSETTO:-0800
TZNAME:PST
DTSTART:20231105T090000
END:STANDARD
END:VTIMEZONE
BEGIN:VEVENT
DTSTART;TZID=America/Los_Angeles:20230930T183000
DTEND;TZID=America/Los_Angeles:20230930T203000
DTSTAMP:20260421T202538
CREATED:20230901T224900Z
LAST-MODIFIED:20230901T230229Z
UID:16222-1696098600-1696105800@www.starofthesea.net
SUMMARY:Night of Worship
DESCRIPTION:“Let everything that has breath give praise to the Lord”-Psalm 150:6 \nJoin us for a night of worship and prayer September 30 at 6:30pm in the Gym.  \n			\n				\n				\n				\n				\n				Featuring\n			\n				\n				\n				\n				\n				Music provided by members of United Praise NorthwestPrayer teams provided by Encounter School of Ministry \n			\n				\n				\n				\n				\n				Gallery
URL:https://www.starofthesea.net/event/night-of-worship/
LOCATION:School Gym\, 511 Veneta Ave\, Bremerton\, WA
CATEGORIES:All Church
ATTACH;FMTTYPE=image/jpeg:https://www.starofthesea.net/wp-content/uploads/2023/09/2018-10-25_11-42-41-1-scaled.jpg
END:VEVENT
END:VCALENDAR