BEGIN:VCALENDAR
VERSION:2.0
PRODID:-//Our Lady Star of the Sea Catholic Church - ECPv6.15.0.1//NONSGML v1.0//EN
CALSCALE:GREGORIAN
METHOD:PUBLISH
X-ORIGINAL-URL:https://www.starofthesea.net
X-WR-CALDESC:Events for Our Lady Star of the Sea Catholic Church
REFRESH-INTERVAL;VALUE=DURATION:PT1H
X-Robots-Tag:noindex
X-PUBLISHED-TTL:PT1H
BEGIN:VTIMEZONE
TZID:America/Los_Angeles
BEGIN:DAYLIGHT
TZOFFSETFROM:-0800
TZOFFSETTO:-0700
TZNAME:PDT
DTSTART:20230312T100000
END:DAYLIGHT
BEGIN:STANDARD
TZOFFSETFROM:-0700
TZOFFSETTO:-0800
TZNAME:PST
DTSTART:20231105T090000
END:STANDARD
END:VTIMEZONE
BEGIN:VEVENT
DTSTART;TZID=America/Los_Angeles:20230419T180000
DTEND;TZID=America/Los_Angeles:20230419T180000
DTSTAMP:20260424T033529
CREATED:20230315T170432Z
LAST-MODIFIED:20230315T170901Z
UID:15538-1681927200-1681927200@www.starofthesea.net
SUMMARY:Saint Luke Productions: Tolton
DESCRIPTION:Saint Luke Production will be performing the one-man show\, Tolton\, in Camerman Hall on Wednesday\, April 19 @ 6:00pm.Admission: Free-will offering \nIn lieu of Wednesday night programs\, we will be encouraging everyone (ages 10 and up) to attend this show. \n  \n			\n				\n				\n				\n				\n				  \nAbout the Production:\n Tolton: From Slave to Priest is a powerful new live production based on the life of Fr. Augustus Tolton\, the first African American priest. This compelling true story of courage\, forgiveness\, and reconciliation resonates deeply with modern American audiences. Bishop Joseph Perry of Chicago\, postulator for Fr. Tolton’s canonization cause\, is calling Tolton a production that will “inspire a new era of peace\, hope and forgiveness in America.” \nTolton is a riveting multimedia drama not to be missed. The production runs 75 minutes\, and is suitable for middle school age and up.
URL:https://www.starofthesea.net/event/saint-luke-productions-tolton/
LOCATION:Camerman Hall
CATEGORIES:All Church
END:VEVENT
END:VCALENDAR