BEGIN:VCALENDAR
VERSION:2.0
PRODID:-//Our Lady Star of the Sea Catholic Church - ECPv6.15.0.1//NONSGML v1.0//EN
CALSCALE:GREGORIAN
METHOD:PUBLISH
X-WR-CALNAME:Our Lady Star of the Sea Catholic Church
X-ORIGINAL-URL:https://www.starofthesea.net
X-WR-CALDESC:Events for Our Lady Star of the Sea Catholic Church
REFRESH-INTERVAL;VALUE=DURATION:PT1H
X-Robots-Tag:noindex
X-PUBLISHED-TTL:PT1H
BEGIN:VTIMEZONE
TZID:America/Los_Angeles
BEGIN:DAYLIGHT
TZOFFSETFROM:-0800
TZOFFSETTO:-0700
TZNAME:PDT
DTSTART:20230312T100000
END:DAYLIGHT
BEGIN:STANDARD
TZOFFSETFROM:-0700
TZOFFSETTO:-0800
TZNAME:PST
DTSTART:20231105T090000
END:STANDARD
END:VTIMEZONE
BEGIN:VEVENT
DTSTART;TZID=America/Los_Angeles:20230218T190000
DTEND;TZID=America/Los_Angeles:20230218T210000
DTSTAMP:20260425T043122
CREATED:20230104T231009Z
LAST-MODIFIED:20230104T232152Z
UID:15344-1676746800-1676754000@www.starofthesea.net
SUMMARY:Trivia Night
DESCRIPTION:Trivia Night!\nHosted by the OLSOS School Commission \n——— \nS A T U R D A Y\,   F E B R U A R Y  18\n7-9 PM\nCamerman Hall \nCost: $20/person\nPrice Includes: Entry\, Snacks\, Beer\, and Dessert\nDoors open at 6:30pm \nTickets can be purchased in the vestibule after weekend Masses or at the school during the day. \n——— \nChildcare available for children ages 5 +\n \n\nCost of childcare: $5/family\nPizza will be provided for the children\nSign-up by February 15 at 360-373-5162\n\n \n			\n			\n				\n				\n				\n				\n				\n				\n				\n				\n				\n				\n			\n				\n				\n				\n				\n				——— \nFunds raised will be used to purchase essential items for people in need in Bremerton. Students will organize items to be handed out as part of a school community service project. \n——— 
URL:https://www.starofthesea.net/event/trivia-night/
LOCATION:Camerman Hall
CATEGORIES:All Church,Fundraiser,School
ATTACH;FMTTYPE=image/jpeg:https://www.starofthesea.net/wp-content/uploads/2022/02/Trivia-Night-flyer-header.jpg
END:VEVENT
END:VCALENDAR